BEGIN:VCALENDAR
VERSION:2.0
PRODID:-//eventon.com NONSGML v1.0//EN
BEGIN:VEVENT
UID:69e54322754a0
DTSTAMP:20260419T180330
DTSTART:20200115T120000Z
DTEND:20200115T210000Z
LOCATION:Parque Cascata Piraí Estrada Piraí\,  Poste 102 - Vila Nova
SUMMARY:Ingresso Dias de Semana 06/01 até 01/05
DESCRIPTION: Ingresso Adulto - R$25\, 00 Ingresso Crianças de 5 a 10 anos - R$10\, 00 Ingresso Crianças até 4 anos - R$0\, 00 (entrada gratuita)
END:VEVENT
END:VCALENDAR